BEGIN:VCALENDAR
VERSION:2.0
PRODID:-//Kansas Herpetological Society - ECPv6.15.20//NONSGML v1.0//EN
CALSCALE:GREGORIAN
METHOD:PUBLISH
X-WR-CALNAME:Kansas Herpetological Society
X-ORIGINAL-URL:http://ksherp.com
X-WR-CALDESC:Events for Kansas Herpetological Society
REFRESH-INTERVAL;VALUE=DURATION:PT1H
X-Robots-Tag:noindex
X-PUBLISHED-TTL:PT1H
BEGIN:VTIMEZONE
TZID:UTC
BEGIN:STANDARD
TZOFFSETFROM:+0000
TZOFFSETTO:+0000
TZNAME:UTC
DTSTART:20230101T000000
END:STANDARD
END:VTIMEZONE
BEGIN:VEVENT
DTSTART;TZID=UTC:20240628T180000
DTEND;TZID=UTC:20240630T120000
DTSTAMP:20260425T001252
CREATED:20231108T202559Z
LAST-MODIFIED:20231108T202559Z
UID:4886-1719597600-1719748800@ksherp.com
SUMMARY:KHS 2024 Summer Field Trip
DESCRIPTION:Location: To be determined.
URL:http://ksherp.com/event/khs-2024-summer-field-trip/
END:VEVENT
END:VCALENDAR