BEGIN:VCALENDAR
VERSION:2.0
PRODID:-//Kansas Herpetological Society - ECPv6.15.20//NONSGML v1.0//EN
CALSCALE:GREGORIAN
METHOD:PUBLISH
X-ORIGINAL-URL:http://ksherp.com
X-WR-CALDESC:Events for Kansas Herpetological Society
REFRESH-INTERVAL;VALUE=DURATION:PT1H
X-Robots-Tag:noindex
X-PUBLISHED-TTL:PT1H
BEGIN:VTIMEZONE
TZID:UTC
BEGIN:STANDARD
TZOFFSETFROM:+0000
TZOFFSETTO:+0000
TZNAME:UTC
DTSTART:20250101T000000
END:STANDARD
END:VTIMEZONE
BEGIN:VEVENT
DTSTART;TZID=UTC:20260417T170000
DTEND;TZID=UTC:20260419T120000
DTSTAMP:20260423T222648
CREATED:20260121T190533Z
LAST-MODIFIED:20260121T190541Z
UID:6278-1776445200-1776600000@ksherp.com
SUMMARY:KHS 2026 Spring Field Trip
DESCRIPTION:Somewhere in Labette County\, Kansas. Campsite to be determined. Please check back for additional information as the field trip date approaches.
URL:http://ksherp.com/event/khs-2026-spring-field-trip/
END:VEVENT
BEGIN:VEVENT
DTSTART;TZID=UTC:20261106T180000
DTEND;TZID=UTC:20261108T120000
DTSTAMP:20260423T222648
CREATED:20260121T190349Z
LAST-MODIFIED:20260121T190359Z
UID:6276-1793988000-1794139200@ksherp.com
SUMMARY:KHS Annual Meeting - 2026
DESCRIPTION:More information will be posted as plans for the 2026 KHS Annual Meeting are settled.
URL:http://ksherp.com/event/khs-annual-meeting-2026/
END:VEVENT
END:VCALENDAR