BEGIN:VCALENDAR
VERSION:2.0
PRODID:-//Kansas Herpetological Society - ECPv6.15.20//NONSGML v1.0//EN
CALSCALE:GREGORIAN
METHOD:PUBLISH
X-ORIGINAL-URL:http://ksherp.com
X-WR-CALDESC:Events for Kansas Herpetological Society
REFRESH-INTERVAL;VALUE=DURATION:PT1H
X-Robots-Tag:noindex
X-PUBLISHED-TTL:PT1H
BEGIN:VTIMEZONE
TZID:UTC
BEGIN:STANDARD
TZOFFSETFROM:+0000
TZOFFSETTO:+0000
TZNAME:UTC
DTSTART:20180101T000000
END:STANDARD
END:VTIMEZONE
BEGIN:VEVENT
DTSTART;TZID=UTC:20190420T120000
DTEND;TZID=UTC:20190420T150000
DTSTAMP:20260423T202751
CREATED:20190214T152924Z
LAST-MODIFIED:20190214T152942Z
UID:2638-1555761600-1555772400@ksherp.com
SUMMARY:Ellis County Easter Weekend Herp Count
DESCRIPTION:Location to be determined. Greenhorn Limestone NE Ellis County along the Saline River valley.
URL:http://ksherp.com/event/ellis-county-easter-weekend-herp-count/
LOCATION:KS\, United States
CATEGORIES:Herp Count
ORGANIZER;CN="Travis W. Taggart":MAILTO:ttaggart@fhsu.edu
END:VEVENT
END:VCALENDAR