BEGIN:VCALENDAR
VERSION:2.0
PRODID:-//Kansas Herpetological Society - ECPv6.15.20//NONSGML v1.0//EN
CALSCALE:GREGORIAN
METHOD:PUBLISH
X-ORIGINAL-URL:http://ksherp.com
X-WR-CALDESC:Events for Kansas Herpetological Society
REFRESH-INTERVAL;VALUE=DURATION:PT1H
X-Robots-Tag:noindex
X-PUBLISHED-TTL:PT1H
BEGIN:VTIMEZONE
TZID:UTC
BEGIN:STANDARD
TZOFFSETFROM:+0000
TZOFFSETTO:+0000
TZNAME:UTC
DTSTART:20220101T000000
END:STANDARD
END:VTIMEZONE
BEGIN:VEVENT
DTSTART;TZID=UTC:20230721T170000
DTEND;TZID=UTC:20230723T170000
DTSTAMP:20260425T160159
CREATED:20230720T190921Z
LAST-MODIFIED:20230720T190921Z
UID:4545-1689958800-1690131600@ksherp.com
SUMMARY:2023 Summer Field Trip
DESCRIPTION:Cimarron National Grassland\, Morton County\, Kansas.
URL:http://ksherp.com/event/2023-summer-field-trip/
CATEGORIES:Field Trip
ATTACH;FMTTYPE=image/jpeg:http://ksherp.com/wp-content/uploads/2023/07/download.jpg
ORGANIZER;CN="Travis W. Taggart":MAILTO:ttaggart@fhsu.edu
END:VEVENT
END:VCALENDAR