BEGIN:VCALENDAR
VERSION:2.0
PRODID:-//Kansas Herpetological Society - ECPv6.15.20//NONSGML v1.0//EN
CALSCALE:GREGORIAN
METHOD:PUBLISH
X-WR-CALNAME:Kansas Herpetological Society
X-ORIGINAL-URL:https://ksherp.com
X-WR-CALDESC:Events for Kansas Herpetological Society
REFRESH-INTERVAL;VALUE=DURATION:PT1H
X-Robots-Tag:noindex
X-PUBLISHED-TTL:PT1H
BEGIN:VTIMEZONE
TZID:UTC
BEGIN:STANDARD
TZOFFSETFROM:+0000
TZOFFSETTO:+0000
TZNAME:UTC
DTSTART:20240101T000000
END:STANDARD
END:VTIMEZONE
BEGIN:VEVENT
DTSTART;TZID=UTC:20250926T080000
DTEND;TZID=UTC:20250928T120000
DTSTAMP:20260424T061237
CREATED:20250911T130416Z
LAST-MODIFIED:20250911T130504Z
UID:5640-1758873600-1759060800@ksherp.com
SUMMARY:2025 KHS Fall Field Trip
DESCRIPTION:KHS 2025 Fall Field Trip
URL:https://ksherp.com/event/5640/
LOCATION:wilson state park\, kansas
CATEGORIES:Field Trip
ORGANIZER;CN="Jackson Roberts":MAILTO:jrroberts6@fhsu.edu
END:VEVENT
END:VCALENDAR