BEGIN:VCALENDAR
VERSION:2.0
PRODID:-//Kansas Herpetological Society - ECPv6.15.20//NONSGML v1.0//EN
CALSCALE:GREGORIAN
METHOD:PUBLISH
X-WR-CALNAME:Kansas Herpetological Society
X-ORIGINAL-URL:https://ksherp.com
X-WR-CALDESC:Events for Kansas Herpetological Society
REFRESH-INTERVAL;VALUE=DURATION:PT1H
X-Robots-Tag:noindex
X-PUBLISHED-TTL:PT1H
BEGIN:VTIMEZONE
TZID:UTC
BEGIN:STANDARD
TZOFFSETFROM:+0000
TZOFFSETTO:+0000
TZNAME:UTC
DTSTART:20180101T000000
END:STANDARD
END:VTIMEZONE
BEGIN:VEVENT
DTSTART;TZID=UTC:20250926T080000
DTEND;TZID=UTC:20250928T120000
DTSTAMP:20260423T195305
CREATED:20250911T130416Z
LAST-MODIFIED:20250911T130504Z
UID:5640-1758873600-1759060800@ksherp.com
SUMMARY:2025 KHS Fall Field Trip
DESCRIPTION:KHS 2025 Fall Field Trip
URL:https://ksherp.com/event/5640/
LOCATION:wilson state park\, kansas
CATEGORIES:Field Trip
ORGANIZER;CN="Jackson Roberts":MAILTO:jrroberts6@fhsu.edu
END:VEVENT
BEGIN:VEVENT
DTSTART;VALUE=DATE:20250725
DTEND;VALUE=DATE:20250728
DTSTAMP:20260423T195305
CREATED:20250623T201319Z
LAST-MODIFIED:20250623T201327Z
UID:5557-1753401600-1753660799@ksherp.com
SUMMARY:2025 KHS Summer Field Trip
DESCRIPTION:Bourbon State Fishing Lake \n37.797264\, -95.065253
URL:https://ksherp.com/event/2025-khs-summer-field-trip/
LOCATION:Bourbon State Fishing Lake\, 20th St\,\, Uniontown\, KS\, 66779\, United States
CATEGORIES:Field Trip
ORGANIZER;CN="Jackson Roberts":MAILTO:jrroberts6@fhsu.edu
END:VEVENT
BEGIN:VEVENT
DTSTART;TZID=UTC:20250425T180000
DTEND;TZID=UTC:20250427T120000
DTSTAMP:20260423T195305
CREATED:20250418T201029Z
LAST-MODIFIED:20250418T201036Z
UID:5548-1745604000-1745755200@ksherp.com
SUMMARY:2025 KHS Spring Field Trip
DESCRIPTION:The field trip campsite will be at Cedar Valley Reservoir\, SW of Garnett in Anderson County.\nTent camping will be $5.80 for the two nights.
URL:https://ksherp.com/event/2025-khs-spring-field-trip/
LOCATION:Cedar Valley Reservoir\, 6 miles S\, 2 miles W of Garnett\, KS
CATEGORIES:Field Trip
ORGANIZER;CN="Travis W. Taggart":MAILTO:ttaggart@fhsu.edu
END:VEVENT
BEGIN:VEVENT
DTSTART;TZID=UTC:20240426T060000
DTEND;TZID=UTC:20240428T120000
DTSTAMP:20260423T195305
CREATED:20231108T202220Z
LAST-MODIFIED:20240411T125726Z
UID:4884-1714111200-1714305600@ksherp.com
SUMMARY:KHS 2024 Spring Field Trip
DESCRIPTION:We will camp at West Park in Fredonia. There are bathroom facilities.\nThere are several motels in the area as well. \nWe will gather at the campsite and carpool to the first field trip location at 9 AM on Saturday\, 27 April. \nAt 1:30 PM we will again meet at the campsite and carpool to the next site. \nFinally\, at 9 AM Sunday morning we will meet and carpool to the last field site.
URL:https://ksherp.com/event/khs-spring-field-trip-2/
CATEGORIES:Field Trip
END:VEVENT
BEGIN:VEVENT
DTSTART;TZID=UTC:20230721T170000
DTEND;TZID=UTC:20230723T170000
DTSTAMP:20260423T195305
CREATED:20230720T190921Z
LAST-MODIFIED:20230720T190921Z
UID:4545-1689958800-1690131600@ksherp.com
SUMMARY:2023 Summer Field Trip
DESCRIPTION:Cimarron National Grassland\, Morton County\, Kansas.
URL:https://ksherp.com/event/2023-summer-field-trip/
CATEGORIES:Field Trip
ATTACH;FMTTYPE=image/jpeg:https://ksherp.com/wp-content/uploads/2023/07/download.jpg
ORGANIZER;CN="Travis W. Taggart":MAILTO:ttaggart@fhsu.edu
END:VEVENT
BEGIN:VEVENT
DTSTART;VALUE=DATE:20230505
DTEND;VALUE=DATE:20230508
DTSTAMP:20260423T195305
CREATED:20230413T154458Z
LAST-MODIFIED:20230413T154506Z
UID:4525-1683244800-1683503999@ksherp.com
SUMMARY:2023 Spring Field Trip
DESCRIPTION:We will be camping at Camp Hunter on the southwest edge of Humboldt.\nhttps://www.humboldtkansas.com/parks\n\n\nCamp Hunter has 17 electrical hookups\, a shower house\, and free Wi-Fi. The City of Humboldt has reduced the rate for camping to $10/5 tents. If you need to arrange an electrical hookup\, please call the City office.\nWe will meet at 9 am Saturday to caravan to a site to herp together and then again on at 9 am Sunday.
URL:https://ksherp.com/event/2023-spring-field-trip/
LOCATION:Camp Hunter\, Humboldt\, KS\, 66748\, United States
CATEGORIES:Field Trip
ATTACH;FMTTYPE=image/jpeg:https://ksherp.com/wp-content/uploads/2023/04/328825095_702063691663869_7924636802056707926_n.jpg
END:VEVENT
BEGIN:VEVENT
DTSTART;VALUE=DATE:20220916
DTEND;VALUE=DATE:20220919
DTSTAMP:20260423T195305
CREATED:20220203T140745Z
LAST-MODIFIED:20220203T140745Z
UID:3802-1663286400-1663545599@ksherp.com
SUMMARY:KHS 'Fall' Field Trip
DESCRIPTION:Elk City State Park\nhttps://ksoutdoors.com/State-Parks/Locations/Elk-City \nMore details to come.
URL:https://ksherp.com/event/khs-fall-field-trip/
CATEGORIES:Field Trip
END:VEVENT
BEGIN:VEVENT
DTSTART;VALUE=DATE:20220624
DTEND;VALUE=DATE:20220627
DTSTAMP:20260423T195305
CREATED:20220203T140613Z
LAST-MODIFIED:20220620T182819Z
UID:3800-1656028800-1656287999@ksherp.com
SUMMARY:KHS Summer Field Trip
DESCRIPTION:Historic Lake Scott State Park\nhttps://ksoutdoors.com/State-Parks/Locations/Historic-Lake-Scott \nMore details to come.
URL:https://ksherp.com/event/khs-summer-field-trip/
CATEGORIES:Field Trip
END:VEVENT
BEGIN:VEVENT
DTSTART;VALUE=DATE:20220415
DTEND;VALUE=DATE:20220418
DTSTAMP:20260423T195305
CREATED:20220203T140423Z
LAST-MODIFIED:20220203T140431Z
UID:3798-1649980800-1650239999@ksherp.com
SUMMARY:KHS Spring Field Trip
DESCRIPTION:Pottawatomie State Fishing Lake No. 1\nhttps://ksoutdoors.com/KDWP-Info/Locations/State-Fishing-Lakes/Northeast-Region/Pottawatomie-Lake-No.-1 \nMore details to follow.
URL:https://ksherp.com/event/khs-spring-field-trip/
CATEGORIES:Field Trip
END:VEVENT
BEGIN:VEVENT
DTSTART;TZID=UTC:20210924T180000
DTEND;TZID=UTC:20210926T120000
DTSTAMP:20260423T195305
CREATED:20210823T125430Z
LAST-MODIFIED:20210917T213426Z
UID:3394-1632506400-1632657600@ksherp.com
SUMMARY:KHS 2021 'Fall' Field Trip
DESCRIPTION:C²T Ranch – Ellis County – https://www.c2tranch.com/ \nCamping will be $10/night.
URL:https://ksherp.com/event/khs-2021-fall-field-trip/
CATEGORIES:Field Trip
END:VEVENT
BEGIN:VEVENT
DTSTART;VALUE=DATE:20210716
DTEND;VALUE=DATE:20210719
DTSTAMP:20260423T195305
CREATED:20210504T135931Z
LAST-MODIFIED:20210504T135931Z
UID:3364-1626393600-1626652799@ksherp.com
SUMMARY:2021 KHS Summer Field Trip
DESCRIPTION:Sappa Park\nJul 16 at 6 PM CDT – Jul 18 at 12 PM CDT\nSappa Park is just NE of Oberlin. It has electric hookups for $10/night; primitive camping is free\, and there are toilets.
URL:https://ksherp.com/event/2021-khs-summer-field-trip/
LOCATION:Sappa Park
CATEGORIES:Field Trip
END:VEVENT
BEGIN:VEVENT
DTSTART;VALUE=DATE:20210507
DTEND;VALUE=DATE:20210510
DTSTAMP:20260423T195305
CREATED:20210504T135806Z
LAST-MODIFIED:20210504T140016Z
UID:3361-1620345600-1620604799@ksherp.com
SUMMARY:2021 KHS Spring Field Trip
DESCRIPTION:Cowley State Fishing Lake\nMay 7 at 6 PM CDT – May 9 at 12 PM CDT\nKHS field trips are free and the public is welcome to attend.\nParticipants will begin arriving Friday night\, with the first scheduled activities to take place Saturday morning at 9 am\, then again at ~1 pm\, and again Sunday morning at 9 am before the group heads to their respective homes around noon.\nBe sure to check the weather and dress appropriately. Sturdy shoes and leather gloves (for lifting rocks) are helpful.
URL:https://ksherp.com/event/khs-spring-2021-field-trip/
LOCATION:Cowley State Fishing Lake
CATEGORIES:Field Trip
ORGANIZER;CN="Travis W. Taggart":MAILTO:ttaggart@fhsu.edu
END:VEVENT
BEGIN:VEVENT
DTSTART;TZID=UTC:20200925T180000
DTEND;TZID=UTC:20200927T120000
DTSTAMP:20260423T195305
CREATED:20200205T212435Z
LAST-MODIFIED:20200205T212636Z
UID:3018-1601056800-1601208000@ksherp.com
SUMMARY:KHS 2020 'Fall' Field Trip
DESCRIPTION:Camping at Elm Creek Lake.
URL:https://ksherp.com/event/khs-2020-fall-field-trip/
LOCATION:Hollister Wildlife Area
CATEGORIES:Field Trip
END:VEVENT
BEGIN:VEVENT
DTSTART;TZID=UTC:20200717T180000
DTEND;TZID=UTC:20200719T120000
DTSTAMP:20260423T195305
CREATED:20200205T212149Z
LAST-MODIFIED:20200717T125936Z
UID:3015-1595008800-1595160000@ksherp.com
SUMMARY:KHS 2020 Summer Field Trip
DESCRIPTION:Camping at Kingman County State Lake. Signs will be up\, leading to the campsite\, by late afternoon on Friday. \n  \nKHS Inagurual HerpDrive contest rules\, species points list\, and scientific collection permit.
URL:https://ksherp.com/event/khs-2020-summer-field-trip/
LOCATION:Kingman County State Lake
CATEGORIES:Field Trip
ORGANIZER;CN="Travis W. Taggart":MAILTO:ttaggart@fhsu.edu
END:VEVENT
BEGIN:VEVENT
DTSTART;TZID=UTC:20200424T180000
DTEND;TZID=UTC:20200426T120000
DTSTAMP:20260423T195305
CREATED:20200205T211951Z
LAST-MODIFIED:20200421T140047Z
UID:3013-1587751200-1587902400@ksherp.com
SUMMARY:KHS 2020 Spring Field Trip - CANCELED
DESCRIPTION:Camping at Cowley County State Lake.
URL:https://ksherp.com/event/khs-2020-spring-field-trip/
CATEGORIES:Field Trip
ORGANIZER;CN="Travis W. Taggart":MAILTO:ttaggart@fhsu.edu
END:VEVENT
BEGIN:VEVENT
DTSTART;TZID=UTC:20190913T170000
DTEND;TZID=UTC:20190915T170000
DTSTAMP:20260423T195305
CREATED:20190212T222711Z
LAST-MODIFIED:20190212T222711Z
UID:2460-1568394000-1568566800@ksherp.com
SUMMARY:KHS 2019 Fall Field Trip
DESCRIPTION:Meade County State Park\, Kansas
URL:https://ksherp.com/event/khs-2019-fall-field-trip/
LOCATION:KS\, United States
CATEGORIES:Field Trip
END:VEVENT
BEGIN:VEVENT
DTSTART;TZID=UTC:20190726T170000
DTEND;TZID=UTC:20190728T170000
DTSTAMP:20260423T195305
CREATED:20190212T222454Z
LAST-MODIFIED:20190212T222454Z
UID:2457-1564160400-1564333200@ksherp.com
SUMMARY:KHS 2019 Summer Field Trip
DESCRIPTION:Hamilton County\, Kansas
URL:https://ksherp.com/event/khs-2019-summer-field-trip/
LOCATION:Hamilton County\, Kansas
CATEGORIES:Field Trip
END:VEVENT
BEGIN:VEVENT
DTSTART;TZID=UTC:20190426T170000
DTEND;TZID=UTC:20190428T120000
DTSTAMP:20260423T195305
CREATED:20190212T222148Z
LAST-MODIFIED:20190424T013336Z
UID:2455-1556298000-1556452800@ksherp.com
SUMMARY:KHS 2019 Spring Field Trip
DESCRIPTION:Former KHS President and long-time member Dan Johnson\, has worked out details that will permit the KHS to center their Spring Field Trip activities around the Flying W Ranch (https://www.flinthillsflyingw.com/). (Google Earth .kmz)\nDan has put together the following announcement.\nThe 2019 Spring Field trip will be Friday\, April 26 – Sunday\, April 28.\nWe have an exciting weekend planned!\nThis year Flying W Ranch\, Clements\, KS (37 miles west of Emporia) will be the site for both lodging\, camping\, and herping.\nKHS members will gather as early as Friday evening (26 April 2019). KHS signs will be posted. Field trip forays will be held on the 3500-acre ranch in Chase County. KHS herpetofaunal counts will officially take place from 9:00 am to 5:00 pm on Saturday (27 April 2019) and on Sunday morning (28 April 2017) from 9:00 am to noon. Individuals wishing to participate should meet at the group campsite at Flying W Ranch’s lodge and cabins on both dates at 9:00 am. More information is available at KHS 2019 Spring Field Trip – Kansas Herpetology Facebook Group. KHS Field Trips are open to anyone interested in learning more about the Kansas herpetofauna. Participants need not be members to participate\, though they are certainly encouraged to join. So feel free to bring your family\, friends\, and social groups to enjoy a truly unique area of Kansas. The Flying W Ranch has set aside the Lodge\, Bunkhouse\, and Cabins for this year’s event. Lodging will go quickly\, just an FYI!\nCheck out the website – https://www.flinthillsflyingw.com/lodging/\nPlease call (620-340-2802) to make reservations for lodging and meals.\nLodging – $65/person/night for adults; kids 2 – 17 years of age are $25/person/night\nCamping – $10.75/night/person for one night; $21.50 for 2 nights (kids and adults are the same prices). Bring your own water. No showers are available. Tent campers don’t need to register in advance.\nRV/Campers – $10.75/night/person. Those wanting to bring their RV or Camper – this needs to be arranged prior to the event. There are no electrical hookups or water hookups available.\nMeals – Breakfast (both Saturday and Sunday morning) – $15/person; kids 10 – 4 years of age are $7.50/person Supper – $25/person; kids 10 – 4 years of age are $12.50/person Advance reservations required! We need a minimum of 25 hungry herpers each meal!\nFlying W Ranch is relatively remote and dining is limited. Closest dining is 17 miles away in Strong City or 37 miles away in Emporia. We plan to have a Saturday evening campfire dinner and Saturday and Sunday morning breakfast if there is enough interest. These need to be arranged prior to the event. If lodging is booked\, the closest location is Clover Cliff Ranch\, about 5 miles up the road – https://www.clovercliffranch.com/\nNEWS FLASH!! Wagon Rides on the Prairie – $255 for the wagon ride for up to 25 guests. $10/person after the 25 number. This is an hour-long wagon ride along country roads. During the ride\, the owners tell about the history and folklore of the area and its inhabitants. No advance reservations needed.
URL:https://ksherp.com/event/khs-2019-spring-field-trip/
CATEGORIES:Field Trip
END:VEVENT
END:VCALENDAR